BEGIN:VCALENDAR
VERSION:2.0
PRODID:icalendar-ruby
CALSCALE:GREGORIAN
X-WR-TIMEZONE:Europe/Helsinki
BEGIN:VTIMEZONE
TZID:Europe/Helsinki
BEGIN:DAYLIGHT
DTSTART:20260329T040000
TZOFFSETFROM:+0200
TZOFFSETTO:+0300
RRULE:FREQ=YEARLY;BYDAY=-1SU;BYMONTH=3
TZNAME:EEST
END:DAYLIGHT
BEGIN:STANDARD
DTSTART:20261025T030000
TZOFFSETFROM:+0300
TZOFFSETTO:+0200
RRULE:FREQ=YEARLY;BYDAY=-1SU;BYMONTH=10
TZNAME:EET
END:STANDARD
END:VTIMEZONE
BEGIN:VEVENT
DTSTAMP:20260421T192845
UID:rastinokia.myclub.fi-8582853
DTSTART;TZID=Europe/Helsinki:20250917T170000
DTEND;TZID=Europe/Helsinki:20250917T183000
DESCRIPTION:Lisätietoja Nokirastien uusilta kotisivuilta: https://nokirast
 it.fi\n\nhttps://rastinokia.myclub.fi/flow/events/8582853
LOCATION:Alisen P-alue\, Pinsiöntie 270-276\, 37130 Nokia
SEQUENCE:0
SUMMARY:RaN jäsenet: Nokirastit
URL;VALUE=URI:https://rastinokia.myclub.fi/flow/events/8582853
END:VEVENT
END:VCALENDAR
